BEGIN:VCALENDAR
VERSION:2.0
PRODID:-//TYPO3/NONSGML News system (news)//EN
BEGIN:VEVENT
UID:news-59104@sortir.grandpoitiers.fr
DTSTAMP:20260413T190525
DTSTART:20260708T000000
DTEND:20260708T000000
SUMMARY:Visite de l'entreprise Biosynthis
CATEGORIES:Animation
DESCRIPTION:A Dissay, en bordure de la RD910, Biosynthis conçoit et 
 fabrique des ingrédients d’origine végétale, 
 biosourcés et offrant un faible impact environnemental, 
 utilisés dans les produits cosmétiques et d’hygiène. 
 Ils sont obtenus grâce à des procédés performants en 
 efficacité et énergie et grâce à l’hydrogène vert. Un 
 seul rejet sur le toit de l’usine disséenne : de 
 l’oxygène ! Venez visiter cette&hellip;
END:VEVENT
END:VCALENDAR