BEGIN:VCALENDAR
VERSION:2.0
PRODID:-//TYPO3/NONSGML News system (news)//EN
BEGIN:VEVENT
UID:news-59165@sortir.grandpoitiers.fr
DTSTAMP:20260416T091226
DTSTART:20260712T000000
DTEND:20260712T000000
SUMMARY:Vide grenier brocante 
CATEGORIES:Animation
DESCRIPTION:Troisième édition de notre vide grenier - parking de la 
 plaine des Sablons (université - par bus Champlain).
LOCATION:Plaine de jeux des Sablons (Plaine de Jeux de Beaulieu)
END:VEVENT
END:VCALENDAR