BEGIN:VCALENDAR
VERSION:2.0
PRODID:-//TYPO3/NONSGML News system (news)//EN
BEGIN:VEVENT
UID:news-59398@sortir.grandpoitiers.fr
DTSTAMP:20260423T175358
DTSTART:20260710T000000
DTEND:20260711T000000
SUMMARY:Stage apprendre à rouler sans les petites roues
CATEGORIES:Sport
DESCRIPTION:Décathlon Vouneuil sous Biard met en place des stages pour 
 apprendre à rouler sans petite roue en&nbsp;partenariat 
 avec un club de vélo local, l'UVP, qui fait intervenir sur 
 notre site un professionnel diplomé afin d'assurer 
 l'apprentissage de ce stage. Votre enfant apprendra à 
 faire du vélo sans roulettes et gagnera en autonomie dans 
 une ambiance ludique et bienveillante !&nbsp;  Des 
 encadrants&hellip;
END:VEVENT
END:VCALENDAR