BEGIN:VCALENDAR
VERSION:2.0
PRODID:-//TYPO3/NONSGML News system (news)//EN
BEGIN:VEVENT
UID:news-59436@sortir.grandpoitiers.fr
DTSTAMP:20260424T191012
DTSTART:20260711T000000
DTEND:20260711T000000
SUMMARY:Herbier créatif
CATEGORIES:Animations espaces verts, Jeune public
DESCRIPTION:Venez appréhender l’herbier sous forme ludique et 
 créative et venez confectionner avec vos enfants une œuvre 
 d’art à base de plantes.
LOCATION:Jardin des Plantes
END:VEVENT
END:VCALENDAR