BEGIN:VCALENDAR
VERSION:2.0
PRODID:-//TYPO3/NONSGML News system (news)//EN
BEGIN:VEVENT
UID:news-59317@sortir.grandpoitiers.fr
DTSTAMP:20260420T183415
DTSTART:20260513T000000
DTEND:20260513T000000
SUMMARY:Entre-Lieux
CATEGORIES:Arts de la rue, Théâtre
DESCRIPTION:Étudiant·e·s en Licence 3 d’Arts du Spectacle en 
 Parcours Théâtre à l’Université de Poitiers, nous vous 
 convions à assister à notre projet de fin de cycle 
 d’études, un projet pédagogique, artistique et collectif 
 dirigé par Shirley Niclais, nous permettant de mettre en 
 pratique les enseignements reçus au cours de notre 
 formation. Basée sur la thématique in situ, cette 
 création à la forme hybride&hellip;
END:VEVENT
END:VCALENDAR