BEGIN:VCALENDAR
VERSION:2.0
PRODID:-//TYPO3/NONSGML News system (news)//EN
BEGIN:VEVENT
UID:news-59420@sortir.grandpoitiers.fr
DTSTAMP:20260424T190731
DTSTART:20260712T000000
DTEND:20260712T000000
SUMMARY:Découverte du poney et de son milieu 
CATEGORIES:Animations espaces verts, Jeune public
DESCRIPTION:Découverte du lieu de vie des poneys : box, sellerie, leur 
 alimentation, paillage d’un box. Entretien du poney, son 
 pansage avec ses différentes brosses, confection de tresses 
 aux poneys.
LOCATION:Bois de Saint-Pierre
END:VEVENT
END:VCALENDAR