BEGIN:VCALENDAR
VERSION:2.0
PRODID:-//TYPO3/NONSGML News system (news)//EN
BEGIN:VEVENT
UID:news-59434@sortir.grandpoitiers.fr
DTSTAMP:20260424T191012
DTSTART:20260709T000000
DTEND:20260709T000000
SUMMARY:Ça mousse ? C’est chimique !
CATEGORIES:Exposition
DESCRIPTION:De la salle de bain à la cuisine, la chimie est partout… 
 et souvent plus surprenante qu’on ne le croit ! Cette 
 exposition démystifie des idées reçues (non, tout ce qui 
 mousse n’est pas magique), propose de réaliser des 
 expériences simples (mais sans risque) et permet de 
 découvrir ce qui se cache dans nos produits du 
 quotidien. Avouons-le : qui sait vraiment ce qu’est le 
 méthyltrucchouette-12 ? &hellip;
LOCATION:Espace Mendès-France
END:VEVENT
END:VCALENDAR