BEGIN:VCALENDAR
VERSION:2.0
PRODID:-//TYPO3/NONSGML News system (news)//EN
BEGIN:VEVENT
UID:news-59230@sortir.grandpoitiers.fr
DTSTAMP:20260417T115528
DTSTART:20260711T000000
DTEND:20260711T000000
SUMMARY:Atelier Verres Collés 
CATEGORIES:Animation
DESCRIPTION:L'Atelier se situe en face du Musée du Vitrail. Petits et 
 grands participent ensemble à l'atelier verres collés. 
 Dès 6 ans, sur réservation, durée 1h.
LOCATION:Musée du vitrail
END:VEVENT
END:VCALENDAR