BEGIN:VCALENDAR
VERSION:2.0
PRODID:-//TYPO3/NONSGML News system (news)//EN
BEGIN:VEVENT
UID:news-59102@sortir.grandpoitiers.fr
DTSTAMP:20260413T190525
DTSTART:20260708T000000
DTEND:20260708T000000
SUMMARY:Atelier Mario Kart Live
CATEGORIES:Animation, Jeu
DESCRIPTION:Des courses de karts dans la bibliothèque ? C'est possible 
 avec l'atelier Mario Kart Live qui mélange réalité 
 augmentée, course de karts réels et jeux vidéo.  À 
 partir de 8 ans / Durée : 1 heure Gratuit sur 
 réservation.
LOCATION:Médiathèque Eugène-Aubin
END:VEVENT
END:VCALENDAR