BEGIN:VCALENDAR
VERSION:2.0
PRODID:-//TYPO3/NONSGML News system (news)//EN
BEGIN:VEVENT
UID:news-59208@sortir.grandpoitiers.fr
DTSTAMP:20260417T115528
DTSTART:20260712T000000
DTEND:20260712T000000
SUMMARY:Atelier Découpe de Verre
CATEGORIES:Animation
DESCRIPTION:L'Atelier se situe en face du Musée du Vitrail. Pendant 
 l'atelier découpe du verre en famille, les participants 
 découpent des pièces de verre selon des calibres puis 
 recomposent leur modèle sur une plaque. Collage à froid ou 
 par fusion au four. À&nbsp;partir de 9 ans, sur 
 réservation, durée 2h.
LOCATION:Musée du vitrail
END:VEVENT
END:VCALENDAR