BEGIN:VCALENDAR
VERSION:2.0
PRODID:-//TYPO3/NONSGML News system (news)//EN
BEGIN:VEVENT
UID:news-59430@sortir.grandpoitiers.fr
DTSTAMP:20260424T190731
DTSTART:20260711T000000
DTEND:20260711T000000
SUMMARY:Accueillir la biodiversité oui, mais ?
CATEGORIES:Animations espaces verts, Nature
DESCRIPTION:Nous avons tous conscience qu’accueillir la biodiversité 
 permet de protéger nos jardins. Cependant, la cohabitation 
 n’est pas toujours aisée ou idyllique. Lors de cet 
 atelier vous découvrirez le monde des auxiliaires et des 
 ravageurs qui peuplent nos jardins, mais surtout leur 
 gestion à travers le triptyque « reconnaitre, prévenir, 
 agir ». Apprenez à composer avec ce petit monde afin 
 d’obtenir&hellip;
LOCATION:Jardin des Plantes
END:VEVENT
END:VCALENDAR